BEGIN:VCALENDAR
VERSION:2.0
PRODID:-//Plone.org//NONSGML plone.app.event//EN
X-WR-TIMEZONE:Europe/Zurich
BEGIN:VEVENT
SUMMARY:Grundbegabungstest
DTSTART;VALUE=DATE-TIME:20180323T060000Z
DTSTAMP;VALUE=DATE-TIME:20260424T005309Z
UID:0db83d5ee9a64cc7b63490a8cdf44d81@127.0.0.1:10150
CREATED;VALUE=DATE-TIME:20180301T064955Z
DESCRIPTION:Grundbegabungstest Eintritt 1. Klasse
LAST-MODIFIED;VALUE=DATE-TIME:20180301T070114Z
URL:https://gymnasium.ai.ch/nuetzliches/termine/grundbegabungstest-1
END:VEVENT
END:VCALENDAR
