BEGIN:VCALENDAR
VERSION:2.0
PRODID:-//Plone.org//NONSGML plone.app.event//EN
X-WR-TIMEZONE:Europe/Zurich
BEGIN:VEVENT
SUMMARY:Grundbegabungstest: Eintritt 1. Gym - Schuljahr 2020/21
DTSTART;VALUE=DATE-TIME:20200602T054500Z
DTEND;VALUE=DATE-TIME:20200602T083000Z
DTSTAMP;VALUE=DATE-TIME:20260423T231806Z
UID:e11b7bdc2d7f45e0a93b5293d6315dda@127.0.0.1:10150
CREATED;VALUE=DATE-TIME:20200428T092701Z
LAST-MODIFIED;VALUE=DATE-TIME:20200428T092706Z
LOCATION:Gymnasium St. Antonius
URL:https://gymnasium.ai.ch/nuetzliches/termine/grundbegabungstest-eintrit
 t-1-gym-schuljahr-2020-21-1
END:VEVENT
END:VCALENDAR
