BEGIN:VCALENDAR
VERSION:2.0
PRODID:-//Plone.org//NONSGML plone.app.event//EN
X-WR-TIMEZONE:Europe/Zurich
BEGIN:VEVENT
SUMMARY:Grundbegabungstest: Eintritt 1. Gym - Schuljahr 2020/21
DTSTART;VALUE=DATE-TIME:20200324T064500Z
DTEND;VALUE=DATE-TIME:20200324T100000Z
DTSTAMP;VALUE=DATE-TIME:20260424T005026Z
UID:c0ac5aa56a344b0ab650c05308c30cd1@127.0.0.1:10150
CREATED;VALUE=DATE-TIME:20200221T170834Z
LAST-MODIFIED;VALUE=DATE-TIME:20200313T083850Z
URL:https://gymnasium.ai.ch/nuetzliches/termine/grundbegabungstest-eintrit
 t-1-gym-schuljahr-2020-21
END:VEVENT
END:VCALENDAR
