BEGIN:VCALENDAR
VERSION:2.0
PRODID:-//Plone.org//NONSGML plone.app.event//EN
X-WR-TIMEZONE:Europe/Zurich
BEGIN:VEVENT
SUMMARY:Grundbegabungstest Eintritt 1. Klasse
DTSTART;VALUE=DATE-TIME:20220322T070000Z
DTEND;VALUE=DATE-TIME:20220322T110000Z
DTSTAMP;VALUE=DATE-TIME:20260423T231617Z
UID:e4ec06d95c6f49f79b83bd0ae701bf81@127.0.0.1:10150
CREATED;VALUE=DATE-TIME:20211106T072943Z
LAST-MODIFIED;VALUE=DATE-TIME:20211106T072947Z
URL:https://gymnasium.ai.ch/nuetzliches/termine/grundbegabungstest-eintrit
 t-1-klasse-1
END:VEVENT
END:VCALENDAR
