BEGIN:VCALENDAR
VERSION:2.0
PRODID:-//Plone.org//NONSGML plone.app.event//EN
X-WR-TIMEZONE:Europe/Zurich
BEGIN:VEVENT
SUMMARY:Grundbegabungstest Eintritt 1. Klasse - Schuljahr 2023/24
DTSTART;TZID=Europe/Vienna;VALUE=DATE-TIME:20230321T073000
DTEND;TZID=Europe/Vienna;VALUE=DATE-TIME:20230321T113000
DTSTAMP;VALUE=DATE-TIME:20260424T004730Z
UID:df6c0e74dd474797b1af4197d5759992@127.0.0.1:6081
CREATED;VALUE=DATE-TIME:20221013T145619Z
LAST-MODIFIED;VALUE=DATE-TIME:20221013T150241Z
URL:https://gymnasium.ai.ch/nuetzliches/termine/grundbegabungstest-eintrit
 t-1-klasse-2
END:VEVENT
BEGIN:VTIMEZONE
TZID:Europe/Vienna
X-LIC-LOCATION:Europe/Vienna
BEGIN:STANDARD
DTSTART;VALUE=DATE-TIME:20221030T020000
TZNAME:CET
TZOFFSETFROM:+0200
TZOFFSETTO:+0100
END:STANDARD
END:VTIMEZONE
END:VCALENDAR
