BEGIN:VCALENDAR
VERSION:2.0
PRODID:-//Plone.org//NONSGML plone.app.event//EN
X-WR-TIMEZONE:Europe/Zurich
BEGIN:VEVENT
SUMMARY:Grundbegabungstest Eintritt 1. Klasse
DTSTART;TZID=Europe/Zurich;VALUE=DATE-TIME:20240321T080000
DTEND;TZID=Europe/Zurich;VALUE=DATE-TIME:20240321T113000
DTSTAMP;VALUE=DATE-TIME:20260423T231607Z
UID:49eb4025502c4fa8b4fcc46a5ef20295@127.0.0.1:6081
CREATED;VALUE=DATE-TIME:20231025T073612Z
LAST-MODIFIED;VALUE=DATE-TIME:20231025T073619Z
URL:https://gymnasium.ai.ch/nuetzliches/termine/grundbegabungstest-eintrit
 t-1-klasse-3
END:VEVENT
BEGIN:VTIMEZONE
TZID:Europe/Zurich
X-LIC-LOCATION:Europe/Zurich
BEGIN:STANDARD
DTSTART;VALUE=DATE-TIME:20231029T020000
TZNAME:CET
TZOFFSETFROM:+0200
TZOFFSETTO:+0100
END:STANDARD
END:VTIMEZONE
END:VCALENDAR
