BEGIN:VCALENDAR
VERSION:2.0
PRODID:-//Plone.org//NONSGML plone.app.event//EN
X-WR-TIMEZONE:Europe/Zurich
BEGIN:VEVENT
SUMMARY:Grundbegabungstest (Eintritt 1. Klasse)
DTSTART;VALUE=DATE:20250320
DTEND;VALUE=DATE:20250321
DTSTAMP;VALUE=DATE-TIME:20260423T231607Z
UID:c0378b003d814ec58553a15a60ab28e0@127.0.0.1:6081
CREATED;VALUE=DATE-TIME:20240826T133342Z
LAST-MODIFIED;VALUE=DATE-TIME:20250226T072825Z
URL:https://gymnasium.ai.ch/nuetzliches/termine/grundbegabungstest-eintrit
 t-1-klasse-4
END:VEVENT
END:VCALENDAR
