BEGIN:VCALENDAR
VERSION:2.0
PRODID:-//Plone.org//NONSGML plone.app.event//EN
X-WR-TIMEZONE:Europe/Zurich
BEGIN:VEVENT
SUMMARY:Grundbegabungstest Eintritt 1. Klasse (Nachprüfung)
DTSTART;TZID=Europe/Zurich;VALUE=DATE-TIME:20240610T133000
DTEND;TZID=Europe/Zurich;VALUE=DATE-TIME:20240610T163000
DTSTAMP;VALUE=DATE-TIME:20260424T004910Z
UID:2ce5f3e6dee844c5819d6143b6f4ade8@127.0.0.1:6081
CREATED;VALUE=DATE-TIME:20240410T094452Z
LAST-MODIFIED;VALUE=DATE-TIME:20240517T092956Z
URL:https://gymnasium.ai.ch/nuetzliches/termine/grundbegabungstest-eintrit
 t-1-klasse-nachpruefung-1
END:VEVENT
BEGIN:VTIMEZONE
TZID:Europe/Zurich
X-LIC-LOCATION:Europe/Zurich
BEGIN:DAYLIGHT
DTSTART;VALUE=DATE-TIME:20240331T030000
TZNAME:CEST
TZOFFSETFROM:+0100
TZOFFSETTO:+0200
END:DAYLIGHT
END:VTIMEZONE
END:VCALENDAR
