BEGIN:VCALENDAR
VERSION:2.0
PRODID:-//Plone.org//NONSGML plone.app.event//EN
X-WR-TIMEZONE:Europe/Zurich
BEGIN:VEVENT
SUMMARY:Grundbegabungstest Eintritt 1. Klasse (Nachprüfung)
DTSTART;VALUE=DATE-TIME:20220607T060000Z
DTEND;VALUE=DATE-TIME:20220607T100000Z
DTSTAMP;VALUE=DATE-TIME:20260423T231656Z
UID:57a663043e1c4e6dbed67b2dd44f6431@127.0.0.1:10150
CREATED;VALUE=DATE-TIME:20220118T130011Z
LAST-MODIFIED;VALUE=DATE-TIME:20220118T130015Z
URL:https://gymnasium.ai.ch/nuetzliches/termine/grundbegabungstest-eintrit
 t-1-klasse-nachpruefung
END:VEVENT
END:VCALENDAR
