BEGIN:VCALENDAR
VERSION:2.0
PRODID:-//Plone.org//NONSGML plone.app.event//EN
X-WR-TIMEZONE:Europe/Zurich
BEGIN:VEVENT
SUMMARY:Grundbegabungstest «Eintritt 1. Klasse - Schuljahr 2021/22» (Nac
 hprüfung)
DTSTART;VALUE=DATE-TIME:20210601T060000Z
DTEND;VALUE=DATE-TIME:20210601T093000Z
DTSTAMP;VALUE=DATE-TIME:20260424T005604Z
UID:06ff51fc5c474dccae96db517980eddc@127.0.0.1:10150
CREATED;VALUE=DATE-TIME:20201104T081254Z
LAST-MODIFIED;VALUE=DATE-TIME:20201104T081305Z
URL:https://gymnasium.ai.ch/nuetzliches/termine/grundbegabungstest-eintrit
 t-1-klasse-schuljahr-2021-22-nachpruefung
END:VEVENT
END:VCALENDAR
