BEGIN:VCALENDAR
VERSION:2.0
PRODID:-//Plone.org//NONSGML plone.app.event//EN
X-WR-TIMEZONE:Europe/Zurich
BEGIN:VEVENT
SUMMARY:Grundbegabungstest «Eintritt 1. Klasse - Schuljahr 2021/22»
DTSTART;VALUE=DATE-TIME:20210323T064500Z
DTEND;VALUE=DATE-TIME:20210323T094000Z
DTSTAMP;VALUE=DATE-TIME:20260424T005039Z
UID:b20228a8c57d4123b6a2a4f48698cdf0@127.0.0.1:10150
CREATED;VALUE=DATE-TIME:20201104T080829Z
LAST-MODIFIED;VALUE=DATE-TIME:20210308T161245Z
URL:https://gymnasium.ai.ch/nuetzliches/termine/grundbegabungstest-eintrit
 t-1-klasse-schuljahr-2021-22
END:VEVENT
END:VCALENDAR
