BEGIN:VCALENDAR
VERSION:2.0
PRODID:-//Plone.org//NONSGML plone.app.event//EN
X-WR-TIMEZONE:Europe/Zurich
BEGIN:VEVENT
SUMMARY:Grundbegabungstest Eintritt 1. Klasse - Schuljahr 2023/24 (Nachpr
 üfung)
DTSTART;TZID=Europe/Vienna;VALUE=DATE-TIME:20230606T073000
DTEND;TZID=Europe/Vienna;VALUE=DATE-TIME:20230606T113000
DTSTAMP;VALUE=DATE-TIME:20260424T021041Z
UID:efa9386b9a4d41338d1dffd0c853842b@127.0.0.1:6081
CREATED;VALUE=DATE-TIME:20221013T183014Z
LAST-MODIFIED;VALUE=DATE-TIME:20221013T183028Z
URL:https://gymnasium.ai.ch/nuetzliches/termine/grundbegabungstest-eintrit
 t-1-klasse-schuljahr-2023-24-nachpruefung
END:VEVENT
BEGIN:VTIMEZONE
TZID:Europe/Vienna
X-LIC-LOCATION:Europe/Vienna
BEGIN:DAYLIGHT
DTSTART;VALUE=DATE-TIME:20230326T030000
TZNAME:CEST
TZOFFSETFROM:+0100
TZOFFSETTO:+0200
END:DAYLIGHT
END:VTIMEZONE
END:VCALENDAR
