BEGIN:VCALENDAR
VERSION:2.0
PRODID:-//Plone.org//NONSGML plone.app.event//EN
X-WR-TIMEZONE:Europe/Zurich
BEGIN:VEVENT
SUMMARY:Grundbegabungstest - Vormittag (Eintritt 1. Klasse)
DTSTART;VALUE=DATE:20260319
DTEND;VALUE=DATE:20260320
DTSTAMP;VALUE=DATE-TIME:20260424T004850Z
UID:a1fc6f7bffec4922a11a1b6b9473ebe5@127.0.0.1:6081
CREATED;VALUE=DATE-TIME:20250720T193603Z
LAST-MODIFIED;VALUE=DATE-TIME:20250720T193731Z
URL:https://gymnasium.ai.ch/nuetzliches/termine/grundbegabungstest-vormitt
 ag-eintritt-1-klasse
END:VEVENT
END:VCALENDAR
