BEGIN:VCALENDAR
VERSION:2.0
PRODID:-//Plone.org//NONSGML plone.app.event//EN
X-WR-TIMEZONE:Europe/Zurich
BEGIN:VEVENT
SUMMARY:Grundbegabungstest
DTSTART;VALUE=DATE-TIME:20180309T160000Z
DTSTAMP;VALUE=DATE-TIME:20260424T004414Z
UID:baa2a317a66b40ba90eadbc261634362@127.0.0.1:10150
CREATED;VALUE=DATE-TIME:20180301T063524Z
DESCRIPTION:Grundbegabungstest Eintritt 1. Klasse: Anmeldeschluss
LAST-MODIFIED;VALUE=DATE-TIME:20180301T063528Z
URL:https://gymnasium.ai.ch/nuetzliches/termine/grundbegabungstest
END:VEVENT
END:VCALENDAR
