BEGIN:VCALENDAR
VERSION:2.0
PRODID:-//Plone.org//NONSGML plone.app.event//EN
X-WR-TIMEZONE:Europe/Zurich
BEGIN:VEVENT
SUMMARY:Anmeldeschluss für 2. Klassen: Grundlagenfach Musik oder BG - Sch
 uljahr 2023/24
DTSTART;VALUE=DATE:20230120
DTEND;VALUE=DATE:20230121
DTSTAMP;VALUE=DATE-TIME:20260423T231816Z
UID:7042eaa3202a4281ae0096f83149f531@127.0.0.1:6081
CREATED;VALUE=DATE-TIME:20220711T205726Z
LAST-MODIFIED;VALUE=DATE-TIME:20230116T080851Z
URL:https://gymnasium.ai.ch/nuetzliches/termine/grundlagenfach-musik-oder-
 bg-schuljahr-2023-24-anmeldeschluss-fuer-2-klassen
END:VEVENT
END:VCALENDAR
