BEGIN:VCALENDAR
VERSION:2.0
PRODID:-//Plone.org//NONSGML plone.app.event//EN
X-WR-TIMEZONE:Europe/Zurich
BEGIN:VEVENT
SUMMARY:Grundlagenfach Musik oder BG
DTSTART;VALUE=DATE:20180118
DTEND;VALUE=DATE:20180120
DTSTAMP;VALUE=DATE-TIME:20260423T231515Z
UID:7d9b201ce9c048e49701ac7884dafaa4@127.0.0.1:10150
CREATED;VALUE=DATE-TIME:20180109T141404Z
DESCRIPTION:Grundlagenfach Musik oder BG Schuljahr 2018/19: Anmeldeschluss
  für 3. Klasse
LAST-MODIFIED;VALUE=DATE-TIME:20180109T141422Z
URL:https://gymnasium.ai.ch/nuetzliches/termine/grundlagenfach-musik-oder-
 bg
END:VEVENT
END:VCALENDAR
