BEGIN:VCALENDAR
VERSION:2.0
PRODID:-//Plone.org//NONSGML plone.app.event//EN
X-WR-TIMEZONE:Europe/Zurich
BEGIN:VEVENT
SUMMARY:Anmeldeschluss für 2. Klassen: Grundlagenfach Musik oder Bildende
  Kunst Schuljahr 2026/27
DTSTART;VALUE=DATE:20260116
DTEND;VALUE=DATE:20260117
DTSTAMP;VALUE=DATE-TIME:20260423T231812Z
UID:50803cd90bbe446e9f7ce78ce35514cf@127.0.0.1:6081
CREATED;VALUE=DATE-TIME:20250719T211033Z
LAST-MODIFIED;VALUE=DATE-TIME:20250719T211207Z
URL:https://gymnasium.ai.ch/nuetzliches/termine/grundlagenfach-musik-oder-
 bildende-kunst-schuljahr-2026-27-anmeldeschluss-fuer-2-klassen
END:VEVENT
END:VCALENDAR
