BEGIN:VCALENDAR
VERSION:2.0
PRODID:-//Plone.org//NONSGML plone.app.event//EN
X-WR-TIMEZONE:Europe/Zurich
BEGIN:VEVENT
SUMMARY:Gymi-Fasnacht
DTSTART;VALUE=DATE-TIME:20190227T180000Z
DTEND;VALUE=DATE-TIME:20190227T220000Z
DTSTAMP;VALUE=DATE-TIME:20260424T005402Z
UID:4d5939c1df424ad6a254bfaf2c403021@127.0.0.1:10150
CREATED;VALUE=DATE-TIME:20190220T212408Z
LAST-MODIFIED;VALUE=DATE-TIME:20190220T212411Z
LOCATION:Theatersaal Gymnasium St. Antonius
URL:https://gymnasium.ai.ch/nuetzliches/termine/gymi-fasnacht-1
END:VEVENT
END:VCALENDAR
