BEGIN:VCALENDAR
VERSION:2.0
PRODID:-//Plone.org//NONSGML plone.app.event//EN
X-WR-TIMEZONE:Europe/Zurich
BEGIN:VEVENT
SUMMARY:Gymi-Fasnacht
DTSTART;VALUE=DATE-TIME:20200219T180000Z
DTEND;VALUE=DATE-TIME:20200219T220000Z
DTSTAMP;VALUE=DATE-TIME:20260423T231616Z
UID:44c0aceccc764c6fbf3866c395e1ec99@127.0.0.1:10150
CREATED;VALUE=DATE-TIME:20191030T143148Z
LAST-MODIFIED;VALUE=DATE-TIME:20191030T143154Z
LOCATION:Theatersaal
URL:https://gymnasium.ai.ch/nuetzliches/termine/gymi-fasnacht-2
END:VEVENT
END:VCALENDAR
