BEGIN:VCALENDAR
VERSION:2.0
PRODID:-//Plone.org//NONSGML plone.app.event//EN
X-WR-TIMEZONE:Europe/Zurich
BEGIN:VEVENT
SUMMARY:Gymi-Fasnacht
DTSTART;TZID=Europe/Vienna;VALUE=DATE-TIME:20230215T190000
DTEND;TZID=Europe/Vienna;VALUE=DATE-TIME:20230215T230000
DTSTAMP;VALUE=DATE-TIME:20260423T231614Z
UID:ef94ae6b58534f87a834dcd9da74a8e3@127.0.0.1:6081
CREATED;VALUE=DATE-TIME:20221012T183622Z
LAST-MODIFIED;VALUE=DATE-TIME:20230201T073318Z
URL:https://gymnasium.ai.ch/nuetzliches/termine/gymi-fasnacht-3
END:VEVENT
BEGIN:VTIMEZONE
TZID:Europe/Vienna
X-LIC-LOCATION:Europe/Vienna
BEGIN:STANDARD
DTSTART;VALUE=DATE-TIME:20221030T020000
TZNAME:CET
TZOFFSETFROM:+0200
TZOFFSETTO:+0100
END:STANDARD
END:VTIMEZONE
END:VCALENDAR
