BEGIN:VCALENDAR
VERSION:2.0
PRODID:-//Plone.org//NONSGML plone.app.event//EN
X-WR-TIMEZONE:Europe/Zurich
BEGIN:VEVENT
SUMMARY:Gymi-Fasnacht
DTSTART;VALUE=DATE-TIME:20180207T180000Z
DTEND;VALUE=DATE-TIME:20180207T220000Z
DTSTAMP;VALUE=DATE-TIME:20260423T231603Z
UID:c038f1094a1d4fae91cd695668333701@127.0.0.1:10150
CREATED;VALUE=DATE-TIME:20180129T091907Z
DESCRIPTION:Gymi-Fasnacht (19.00 Uhr\, Theatersaal)
LAST-MODIFIED;VALUE=DATE-TIME:20180129T091912Z
URL:https://gymnasium.ai.ch/nuetzliches/termine/gymi-fasnacht
END:VEVENT
END:VCALENDAR
