BEGIN:VCALENDAR
VERSION:2.0
PRODID:-//Plone.org//NONSGML plone.app.event//EN
X-WR-TIMEZONE:Europe/Zurich
BEGIN:VEVENT
SUMMARY:GymiFEST
DTSTART;TZID=Europe/Zurich;VALUE=DATE-TIME:20240921T100000
DTEND;TZID=Europe/Zurich;VALUE=DATE-TIME:20240921T180000
DTSTAMP;VALUE=DATE-TIME:20260424T004610Z
UID:57a4cea4186e427fa0bd18e5df90ff9e@127.0.0.1:6081
CREATED;VALUE=DATE-TIME:20240228T104300Z
LAST-MODIFIED;VALUE=DATE-TIME:20240703T205652Z
URL:https://gymnasium.ai.ch/nuetzliches/termine/gymi-fest
END:VEVENT
BEGIN:VTIMEZONE
TZID:Europe/Zurich
X-LIC-LOCATION:Europe/Zurich
BEGIN:DAYLIGHT
DTSTART;VALUE=DATE-TIME:20240331T030000
TZNAME:CEST
TZOFFSETFROM:+0100
TZOFFSETTO:+0200
END:DAYLIGHT
END:VTIMEZONE
END:VCALENDAR
