BEGIN:VCALENDAR
VERSION:2.0
PRODID:-//Plone.org//NONSGML plone.app.event//EN
X-WR-TIMEZONE:Europe/Zurich
BEGIN:VEVENT
SUMMARY:Gymi-Music-Night
DTSTART;VALUE=DATE-TIME:20190326T180000Z
DTEND;VALUE=DATE-TIME:20190326T200000Z
DTSTAMP;VALUE=DATE-TIME:20260423T231526Z
UID:6335c842d2054905a724a99f8bdf2f57@127.0.0.1:10150
CREATED;VALUE=DATE-TIME:20190128T081945Z
DESCRIPTION:Agenten\, Gangster und Ganoven / Chor\, Orchester und Band lie
 fern sich eine musikalische Verfolgungsjagd. Klassiker der Agentenmusik tr
 effen auf krassen Gangstersound.
LAST-MODIFIED;VALUE=DATE-TIME:20190128T082122Z
LOCATION:Theatersaal Gymnasium St. Antonius Appenzell
URL:https://gymnasium.ai.ch/nuetzliches/termine/gymi-music-night-1
END:VEVENT
END:VCALENDAR
