BEGIN:VCALENDAR
VERSION:2.0
PRODID:-//Plone.org//NONSGML plone.app.event//EN
X-WR-TIMEZONE:Europe/Zurich
BEGIN:VEVENT
SUMMARY:Gymi Music-Night
DTSTART;TZID=Europe/Vienna;VALUE=DATE-TIME:20230328T180000
DTEND;TZID=Europe/Vienna;VALUE=DATE-TIME:20230328T193000
DTSTAMP;VALUE=DATE-TIME:20260423T231505Z
UID:f7552d76f30249f8bf36fa3fe906ba61@127.0.0.1:6081
CREATED;VALUE=DATE-TIME:20221013T162226Z
LAST-MODIFIED;VALUE=DATE-TIME:20221013T162308Z
URL:https://gymnasium.ai.ch/nuetzliches/termine/gymi-music-night-3
END:VEVENT
BEGIN:VTIMEZONE
TZID:Europe/Vienna
X-LIC-LOCATION:Europe/Vienna
BEGIN:DAYLIGHT
DTSTART;VALUE=DATE-TIME:20230326T030000
TZNAME:CEST
TZOFFSETFROM:+0100
TZOFFSETTO:+0200
END:DAYLIGHT
END:VTIMEZONE
END:VCALENDAR
