BEGIN:VCALENDAR
VERSION:2.0
PRODID:-//Plone.org//NONSGML plone.app.event//EN
X-WR-TIMEZONE:Europe/Zurich
BEGIN:VEVENT
SUMMARY:Gymi Music Night
DTSTART;TZID=Europe/Zurich;VALUE=DATE-TIME:20231219T180000
DTEND;TZID=Europe/Zurich;VALUE=DATE-TIME:20231219T190000
DTSTAMP;VALUE=DATE-TIME:20260423T231534Z
UID:9b0439a0b284484a8828d897427cb08c@127.0.0.1:6081
CREATED;VALUE=DATE-TIME:20231120T081256Z
LAST-MODIFIED;VALUE=DATE-TIME:20231120T081346Z
URL:https://gymnasium.ai.ch/nuetzliches/termine/gymi-music-night-4
END:VEVENT
BEGIN:VTIMEZONE
TZID:Europe/Zurich
X-LIC-LOCATION:Europe/Zurich
BEGIN:STANDARD
DTSTART;VALUE=DATE-TIME:20231029T020000
TZNAME:CET
TZOFFSETFROM:+0200
TZOFFSETTO:+0100
END:STANDARD
END:VTIMEZONE
END:VCALENDAR
