BEGIN:VCALENDAR
VERSION:2.0
PRODID:-//Plone.org//NONSGML plone.app.event//EN
X-WR-TIMEZONE:Europe/Zurich
BEGIN:VEVENT
SUMMARY:Gymi Music-Night
DTSTART;VALUE=DATE-TIME:20180508T173000Z
DTEND;VALUE=DATE-TIME:20180508T193000Z
DTSTAMP;VALUE=DATE-TIME:20260423T231512Z
UID:3a1544c20537448b973576e7a25434a1@127.0.0.1:10150
CREATED;VALUE=DATE-TIME:20180307T093102Z
LAST-MODIFIED;VALUE=DATE-TIME:20180507T072026Z
LOCATION:Gymnasium
URL:https://gymnasium.ai.ch/nuetzliches/termine/gymi-music-night
END:VEVENT
END:VCALENDAR
