BEGIN:VCALENDAR
VERSION:2.0
PRODID:-//Plone.org//NONSGML plone.app.event//EN
X-WR-TIMEZONE:Europe/Zurich
BEGIN:VEVENT
SUMMARY:Gymi-Schachmeisterschaft (16.15 – 18.15 Uhr)
DTSTART;VALUE=DATE:20230307
DTEND;VALUE=DATE:20230308
DTSTAMP;VALUE=DATE-TIME:20260424T020710Z
UID:cf9497bd07dc4cd79d5827cff013de4f@127.0.0.1:6081
CREATED;VALUE=DATE-TIME:20221012T185400Z
LAST-MODIFIED;VALUE=DATE-TIME:20221012T185421Z
URL:https://gymnasium.ai.ch/nuetzliches/termine/gymi-schachmeisterschaft-1
 6-15-18-15-uhr
END:VEVENT
END:VCALENDAR
