BEGIN:VCALENDAR
VERSION:2.0
PRODID:-//Plone.org//NONSGML plone.app.event//EN
X-WR-TIMEZONE:Europe/Zurich
BEGIN:VEVENT
SUMMARY:Gymi-Schachmeisterschaft
DTSTART;VALUE=DATE-TIME:20200303T151500Z
DTEND;VALUE=DATE-TIME:20200303T171500Z
DTSTAMP;VALUE=DATE-TIME:20260423T231515Z
UID:8608a2de033348b1bd9d908770e1a1d9@127.0.0.1:10150
CREATED;VALUE=DATE-TIME:20200219T153800Z
LAST-MODIFIED;VALUE=DATE-TIME:20200219T154100Z
LOCATION:Mensa
URL:https://gymnasium.ai.ch/nuetzliches/termine/gymi-schachmeisterschaft-2
END:VEVENT
END:VCALENDAR
