BEGIN:VCALENDAR
VERSION:2.0
PRODID:-//Plone.org//NONSGML plone.app.event//EN
X-WR-TIMEZONE:Europe/Zurich
BEGIN:VEVENT
SUMMARY:Abgesagt: Gymi-Skilager
DTSTART;VALUE=DATE:20220226
DTEND;VALUE=DATE:20220305
DTSTAMP;VALUE=DATE-TIME:20260424T004725Z
UID:e7ada75eef654de198260fd25eb2cfe2@127.0.0.1:10150
CREATED;VALUE=DATE-TIME:20211108T142116Z
LAST-MODIFIED;VALUE=DATE-TIME:20220117T101754Z
URL:https://gymnasium.ai.ch/nuetzliches/termine/gymi-skilager-1
END:VEVENT
END:VCALENDAR
