BEGIN:VCALENDAR
VERSION:2.0
PRODID:-//Plone.org//NONSGML plone.app.event//EN
X-WR-TIMEZONE:Europe/Zurich
BEGIN:VEVENT
SUMMARY:Gymi-Skilager
DTSTART;VALUE=DATE:20260215
DTEND;VALUE=DATE:20260221
DTSTAMP;VALUE=DATE-TIME:20260424T004726Z
UID:5129473f85b743978d297cffffbb2c70@127.0.0.1:6081
CREATED;VALUE=DATE-TIME:20260213T173145Z
LAST-MODIFIED;VALUE=DATE-TIME:20260213T173200Z
URL:https://gymnasium.ai.ch/nuetzliches/termine/gymi-skilager-2
END:VEVENT
END:VCALENDAR
