BEGIN:VCALENDAR
VERSION:2.0
PRODID:-//Plone.org//NONSGML plone.app.event//EN
X-WR-TIMEZONE:Europe/Zurich
BEGIN:VEVENT
SUMMARY:Gymi-Skilager: Gimmelwald (Skigebiet Mürren/Schilthorn)
DTSTART;VALUE=DATE:20240211
DTEND;VALUE=DATE:20240217
DTSTAMP;VALUE=DATE-TIME:20260424T005039Z
UID:ab4e08d48da4476292525b7fdd2c7e76@127.0.0.1:6081
CREATED;VALUE=DATE-TIME:20231201T095221Z
LAST-MODIFIED;VALUE=DATE-TIME:20231201T095450Z
URL:https://gymnasium.ai.ch/nuetzliches/termine/gymi-skilager-gimmelwald-s
 kigebiet-muerren-schilthorn
END:VEVENT
END:VCALENDAR
