BEGIN:VCALENDAR
VERSION:2.0
PRODID:-//Plone.org//NONSGML plone.app.event//EN
X-WR-TIMEZONE:Europe/Zurich
BEGIN:VEVENT
SUMMARY:Gymi-Skilager: Sedrun
DTSTART;VALUE=DATE:20250302
DTEND;VALUE=DATE:20250308
DTSTAMP;VALUE=DATE-TIME:20260423T231514Z
UID:6d90d1e2baf84c4789dfb7bcfd7362f9@127.0.0.1:6081
CREATED;VALUE=DATE-TIME:20241211T204940Z
LAST-MODIFIED;VALUE=DATE-TIME:20241211T204947Z
URL:https://gymnasium.ai.ch/nuetzliches/termine/gymi-skilager-sedrun
END:VEVENT
END:VCALENDAR
