BEGIN:VCALENDAR
VERSION:2.0
PRODID:-//Plone.org//NONSGML plone.app.event//EN
X-WR-TIMEZONE:Europe/Zurich
BEGIN:VEVENT
SUMMARY:Gymi-Skilager: Lenzerheide/Arosa
DTSTART;VALUE=DATE:20200222
DTEND;VALUE=DATE:20200229
DTSTAMP;VALUE=DATE-TIME:20260423T231405Z
UID:ad35a82ce4e44af784d53f6b1bd6152d@127.0.0.1:10150
CREATED;VALUE=DATE-TIME:20191030T143634Z
LAST-MODIFIED;VALUE=DATE-TIME:20191030T144531Z
URL:https://gymnasium.ai.ch/nuetzliches/termine/gymi-skilager
END:VEVENT
END:VCALENDAR
