BEGIN:VCALENDAR
VERSION:2.0
PRODID:-//Plone.org//NONSGML plone.app.event//EN
X-WR-TIMEZONE:Europe/Zurich
BEGIN:VEVENT
SUMMARY:GymiFescht
DTSTART;VALUE=DATE:20180906
DTEND;VALUE=DATE:20180909
DTSTAMP;VALUE=DATE-TIME:20260424T004230Z
UID:8987d2564c454a4a836f3c4e702ec735@127.0.0.1:10150
CREATED;VALUE=DATE-TIME:20180928T123318Z
LAST-MODIFIED;VALUE=DATE-TIME:20180928T151131Z
URL:https://gymnasium.ai.ch/nuetzliches/termine/gymifescht
END:VEVENT
END:VCALENDAR
