BEGIN:VCALENDAR
VERSION:2.0
PRODID:-//Plone.org//NONSGML plone.app.event//EN
X-WR-TIMEZONE:Europe/Zurich
BEGIN:VEVENT
SUMMARY:Gymnasium St. Antonius an der OBA in St. Gallen
DTSTART;VALUE=DATE:20230831
DTEND;VALUE=DATE:20230904
DTSTAMP;VALUE=DATE-TIME:20260423T231806Z
UID:5525cbc6200a42db89ae0c37896e3d79@127.0.0.1:6081
CREATED;VALUE=DATE-TIME:20230712T082832Z
LAST-MODIFIED;VALUE=DATE-TIME:20230712T082837Z
URL:https://gymnasium.ai.ch/nuetzliches/termine/gymnasium-st-antonius-an-d
 er-oba-in-st-gallen-1
END:VEVENT
END:VCALENDAR
