BEGIN:VCALENDAR
VERSION:2.0
PRODID:-//Plone.org//NONSGML plone.app.event//EN
X-WR-TIMEZONE:Europe/Zurich
BEGIN:VEVENT
SUMMARY:Gymnasium St. Antonius an der OBA in St. Gallen
DTSTART;VALUE=DATE:20240829
DTEND;VALUE=DATE:20240902
DTSTAMP;VALUE=DATE-TIME:20260424T005039Z
UID:e40c43d93c47424fb07d9d2932486310@127.0.0.1:6081
CREATED;VALUE=DATE-TIME:20240703T211457Z
LAST-MODIFIED;VALUE=DATE-TIME:20240703T211504Z
URL:https://gymnasium.ai.ch/nuetzliches/termine/gymnasium-st-antonius-an-d
 er-oba-in-st-gallen-2
END:VEVENT
END:VCALENDAR
