BEGIN:VCALENDAR
VERSION:2.0
PRODID:-//Plone.org//NONSGML plone.app.event//EN
X-WR-TIMEZONE:Europe/Zurich
BEGIN:VEVENT
SUMMARY:Gymnasium St. Antonius an der OBA in St. Gallen
DTSTART;VALUE=DATE:20220901
DTEND;VALUE=DATE:20220905
DTSTAMP;VALUE=DATE-TIME:20260424T005039Z
UID:509797493d5f4dff9043a0812750861f@127.0.0.1:6081
CREATED;VALUE=DATE-TIME:20220810T143252Z
LAST-MODIFIED;VALUE=DATE-TIME:20220810T143303Z
URL:https://gymnasium.ai.ch/nuetzliches/termine/gymnasium-st-antonius-an-d
 er-oba-in-st-gallen
END:VEVENT
END:VCALENDAR
