BEGIN:VCALENDAR
VERSION:2.0
PRODID:-//Plone.org//NONSGML plone.app.event//EN
X-WR-TIMEZONE:Europe/Zurich
BEGIN:VEVENT
SUMMARY:Hauptprobe WPF Theater
DTSTART;VALUE=DATE-TIME:20180313T152000Z
DTEND;VALUE=DATE-TIME:20180313T190000Z
DTSTAMP;VALUE=DATE-TIME:20260424T004609Z
UID:836c23682ae442a8979b74664b88088a@127.0.0.1:10150
CREATED;VALUE=DATE-TIME:20180301T063817Z
DESCRIPTION:Hauptprobe WPF Theater (16.20 Uhr – 20.00 Uhr\, Theatersaal)
LAST-MODIFIED;VALUE=DATE-TIME:20180301T063821Z
URL:https://gymnasium.ai.ch/nuetzliches/termine/hauptprobe-wpf-theater
END:VEVENT
END:VCALENDAR
