BEGIN:VCALENDAR
VERSION:2.0
PRODID:-//Plone.org//NONSGML plone.app.event//EN
X-WR-TIMEZONE:Europe/Zurich
BEGIN:VEVENT
SUMMARY:Herbstferien
DTSTART;VALUE=DATE:20191004
DTEND;VALUE=DATE:20191021
DTSTAMP;VALUE=DATE-TIME:20260424T004324Z
UID:4cfa5992e0fb40a3968c4940fb528e58@127.0.0.1:10150
CREATED;VALUE=DATE-TIME:20190707T112754Z
LAST-MODIFIED;VALUE=DATE-TIME:20190707T112759Z
URL:https://gymnasium.ai.ch/nuetzliches/termine/herbstferien-1
END:VEVENT
END:VCALENDAR
