BEGIN:VCALENDAR
VERSION:2.0
PRODID:-//Plone.org//NONSGML plone.app.event//EN
X-WR-TIMEZONE:Europe/Zurich
BEGIN:VEVENT
SUMMARY:Herbstferien
DTSTART;VALUE=DATE:20211008
DTEND;VALUE=DATE:20211025
DTSTAMP;VALUE=DATE-TIME:20260423T231313Z
UID:6a1f384ffbad4d3bb594db82573fb141@127.0.0.1:10150
CREATED;VALUE=DATE-TIME:20210817T071433Z
LAST-MODIFIED;VALUE=DATE-TIME:20210817T071437Z
URL:https://gymnasium.ai.ch/nuetzliches/termine/herbstferien-3
END:VEVENT
END:VCALENDAR
