BEGIN:VCALENDAR
VERSION:2.0
PRODID:-//Plone.org//NONSGML plone.app.event//EN
X-WR-TIMEZONE:Europe/Zurich
BEGIN:VEVENT
SUMMARY:Herbstferien
DTSTART;VALUE=DATE:20231007
DTEND;VALUE=DATE:20231023
DTSTAMP;VALUE=DATE-TIME:20260424T004253Z
UID:7c6755c6954248b281dea5efdaabcf07@127.0.0.1:6081
CREATED;VALUE=DATE-TIME:20230712T083919Z
LAST-MODIFIED;VALUE=DATE-TIME:20230712T083925Z
URL:https://gymnasium.ai.ch/nuetzliches/termine/herbstferien-5
END:VEVENT
END:VCALENDAR
