BEGIN:VCALENDAR
VERSION:2.0
PRODID:-//Plone.org//NONSGML plone.app.event//EN
X-WR-TIMEZONE:Europe/Zurich
BEGIN:VEVENT
SUMMARY:Herbstferien
DTSTART;VALUE=DATE:20241005
DTEND;VALUE=DATE:20241021
DTSTAMP;VALUE=DATE-TIME:20260424T004609Z
UID:4b6e61396fb94d4b9e9885978ec230da@127.0.0.1:6081
CREATED;VALUE=DATE-TIME:20240703T204310Z
LAST-MODIFIED;VALUE=DATE-TIME:20240703T204314Z
URL:https://gymnasium.ai.ch/nuetzliches/termine/herbstferien-6
END:VEVENT
END:VCALENDAR
