BEGIN:VCALENDAR
VERSION:2.0
PRODID:-//Plone.org//NONSGML plone.app.event//EN
X-WR-TIMEZONE:Europe/Zurich
BEGIN:VEVENT
SUMMARY:Herbstferien
DTSTART;VALUE=DATE:20251004
DTEND;VALUE=DATE:20251020
DTSTAMP;VALUE=DATE-TIME:20260424T004254Z
UID:a547eceadb1549029aa20e379539a627@127.0.0.1:6081
CREATED;VALUE=DATE-TIME:20250719T153106Z
LAST-MODIFIED;VALUE=DATE-TIME:20250719T153110Z
URL:https://gymnasium.ai.ch/nuetzliches/termine/herbstferien-7
END:VEVENT
END:VCALENDAR
