BEGIN:VCALENDAR
VERSION:2.0
PRODID:-//Plone.org//NONSGML plone.app.event//EN
X-WR-TIMEZONE:Europe/Zurich
BEGIN:VEVENT
SUMMARY:Herbstferien
DTSTART;VALUE=DATE:20181005
DTEND;VALUE=DATE:20181022
DTSTAMP;VALUE=DATE-TIME:20260424T004229Z
UID:27494417f3e84e22810827f727f54b0a@127.0.0.1:10150
CREATED;VALUE=DATE-TIME:20180928T115711Z
LAST-MODIFIED;VALUE=DATE-TIME:20180928T123858Z
URL:https://gymnasium.ai.ch/nuetzliches/termine/herbstferien
END:VEVENT
END:VCALENDAR
