BEGIN:VCALENDAR
VERSION:2.0
PRODID:-//Plone.org//NONSGML plone.app.event//EN
X-WR-TIMEZONE:Europe/Zurich
BEGIN:VEVENT
SUMMARY:Historischer Verein Appenzell - Dominik Pérez\, Appenzell - Den U
 krainekrieg verstehen (II): historische Hintergründe 2014-2022
DTSTART;TZID=Europe/Vienna;VALUE=DATE-TIME:20221013T193000
DTEND;TZID=Europe/Vienna;VALUE=DATE-TIME:20221013T210000
DTSTAMP;VALUE=DATE-TIME:20260424T021604Z
UID:29b0b12273334a40adbe3462242ba0af@127.0.0.1:6081
CREATED;VALUE=DATE-TIME:20220830T084602Z
LAST-MODIFIED;VALUE=DATE-TIME:20220830T090207Z
LOCATION:Theatersaal\, Gymnasium St. Antonius Appenzell
URL:https://gymnasium.ai.ch/nuetzliches/termine/historischer-verein-appenz
 ell-dominik-perez-appenzell-den-ukrainekrieg-verstehen-ii-historische-hint
 ergruende-2014-2022
END:VEVENT
BEGIN:VTIMEZONE
TZID:Europe/Vienna
X-LIC-LOCATION:Europe/Vienna
BEGIN:DAYLIGHT
DTSTART;VALUE=DATE-TIME:20220327T030000
TZNAME:CEST
TZOFFSETFROM:+0100
TZOFFSETTO:+0200
END:DAYLIGHT
END:VTIMEZONE
END:VCALENDAR
