BEGIN:VCALENDAR
VERSION:2.0
PRODID:-//Plone.org//NONSGML plone.app.event//EN
X-WR-TIMEZONE:Europe/Zurich
BEGIN:VEVENT
SUMMARY:Historischer Verein Appenzell - Josef Küng\, Steinegg - Den Ukrai
 nekrieg verstehen (I): historische Hintergründe bis 2014
DTSTART;TZID=Europe/Vienna;VALUE=DATE-TIME:20220927T193000
DTEND;TZID=Europe/Vienna;VALUE=DATE-TIME:20220927T210000
DTSTAMP;VALUE=DATE-TIME:20260423T231806Z
UID:a1d7566cb28b4ff8a097c2323228755e@127.0.0.1:6081
CREATED;VALUE=DATE-TIME:20220830T083147Z
LAST-MODIFIED;VALUE=DATE-TIME:20220830T085953Z
LOCATION:Theatersaal\, Gymnasium St. Antonius Appenzell
URL:https://gymnasium.ai.ch/nuetzliches/termine/historischer-verein-appenz
 ell-josef-kueng-steinegg
END:VEVENT
BEGIN:VTIMEZONE
TZID:Europe/Vienna
X-LIC-LOCATION:Europe/Vienna
BEGIN:DAYLIGHT
DTSTART;VALUE=DATE-TIME:20220327T030000
TZNAME:CEST
TZOFFSETFROM:+0100
TZOFFSETTO:+0200
END:DAYLIGHT
END:VTIMEZONE
END:VCALENDAR
