BEGIN:VCALENDAR
VERSION:2.0
PRODID:-//Plone.org//NONSGML plone.app.event//EN
X-WR-TIMEZONE:Europe/Zurich
BEGIN:VEVENT
SUMMARY:Historischer Verein Appenzell - Marco Knechtle\, Appenzell - Den U
 krainekrieg verstehen (III): Kriegsverlauf und Folgen
DTSTART;TZID=Europe/Vienna;VALUE=DATE-TIME:20221027T193000
DTEND;TZID=Europe/Vienna;VALUE=DATE-TIME:20221027T210000
DTSTAMP;VALUE=DATE-TIME:20260424T005951Z
UID:44ba5eb0e8bd4b44a7ed82c1ded4dc44@127.0.0.1:6081
CREATED;VALUE=DATE-TIME:20220830T090939Z
LAST-MODIFIED;VALUE=DATE-TIME:20220830T090951Z
LOCATION:Theatersaal\, Gymnasium St. Antonius Appenzell
URL:https://gymnasium.ai.ch/nuetzliches/termine/historischer-verein-appenz
 ell-marco-knechtle-appenzell-den-ukrainekrieg-verstehen-iii-kriegsverlauf-
 und-folgen
END:VEVENT
BEGIN:VTIMEZONE
TZID:Europe/Vienna
X-LIC-LOCATION:Europe/Vienna
BEGIN:DAYLIGHT
DTSTART;VALUE=DATE-TIME:20220327T030000
TZNAME:CEST
TZOFFSETFROM:+0100
TZOFFSETTO:+0200
END:DAYLIGHT
END:VTIMEZONE
END:VCALENDAR
