BEGIN:VCALENDAR
VERSION:2.0
PRODID:-//Plone.org//NONSGML plone.app.event//EN
X-WR-TIMEZONE:Europe/Zurich
BEGIN:VEVENT
SUMMARY:Historischer Verein Appenzell: Maturand/-innen des Gymnasiums St. 
 Antonius Appenzell stellen ihre Maturaarbeiten zu geschichtlichen Themen v
 or.
DTSTART;TZID=Europe/Vienna;VALUE=DATE-TIME:20221222T193000
DTEND;TZID=Europe/Vienna;VALUE=DATE-TIME:20221222T210000
DTSTAMP;VALUE=DATE-TIME:20260423T231927Z
UID:dfc58ccb54aa440ea21e124cc56910c1@127.0.0.1:6081
CREATED;VALUE=DATE-TIME:20220830T092528Z
LAST-MODIFIED;VALUE=DATE-TIME:20220830T092819Z
LOCATION:Kleiner Ratssaal\, Appenzell
URL:https://gymnasium.ai.ch/nuetzliches/termine/historischer-verein-appenz
 ell-maturand-innen-des-gymnasiums-st-antonius-appenzell-stellen-ihre-matur
 aarbeiten-zu-geschichtlichen-themen-vor
END:VEVENT
BEGIN:VTIMEZONE
TZID:Europe/Vienna
X-LIC-LOCATION:Europe/Vienna
BEGIN:STANDARD
DTSTART;VALUE=DATE-TIME:20221030T020000
TZNAME:CET
TZOFFSETFROM:+0200
TZOFFSETTO:+0100
END:STANDARD
END:VTIMEZONE
END:VCALENDAR
