BEGIN:VCALENDAR
VERSION:2.0
PRODID:-//Plone.org//NONSGML plone.app.event//EN
X-WR-TIMEZONE:Europe/Zurich
BEGIN:VEVENT
SUMMARY:Hl. Mauritius: Landespatron Appenzell I.Rh. (schulfrei)
DTSTART;VALUE=DATE:20210921
DTEND;VALUE=DATE:20210923
DTSTAMP;VALUE=DATE-TIME:20260424T005700Z
UID:72ed52952ca8435dbfe1193e39a3c75f@127.0.0.1:10150
CREATED;VALUE=DATE-TIME:20210817T071044Z
LAST-MODIFIED;VALUE=DATE-TIME:20210817T071048Z
URL:https://gymnasium.ai.ch/nuetzliches/termine/hl-mauritius-landespatron-
 appenzell-i-rh-schulfrei-1
END:VEVENT
END:VCALENDAR
