BEGIN:VCALENDAR
VERSION:2.0
PRODID:-//Plone.org//NONSGML plone.app.event//EN
X-WR-TIMEZONE:Europe/Zurich
BEGIN:VEVENT
SUMMARY:Hl. Mauritius: Landespatron Appenzell I.Rh. (schulfrei)
DTSTART;VALUE=DATE:20220922
DTEND;VALUE=DATE:20220923
DTSTAMP;VALUE=DATE-TIME:20260423T231818Z
UID:b44ae7ac913741ed9d00633dbd5e7e01@127.0.0.1:6081
CREATED;VALUE=DATE-TIME:20220711T200557Z
LAST-MODIFIED;VALUE=DATE-TIME:20220711T200603Z
URL:https://gymnasium.ai.ch/nuetzliches/termine/hl-mauritius-landespatron-
 appenzell-i-rh-schulfrei-2
END:VEVENT
END:VCALENDAR
